Package: cellmigRation Version: 1.14.0 Command: F:\biocbuild\bbs-3.20-bioc\R\bin\R.exe CMD INSTALL cellmigRation StartedAt: 2025-01-30 16:42:37 -0500 (Thu, 30 Jan 2025) EndedAt: 2025-01-30 16:44:42 -0500 (Thu, 30 Jan 2025) EllapsedTime: 125.4 seconds RetCode: 0 Status: OK