Package: cellmigRation Version: 1.14.0 Command: /home/biocbuild/R/R/bin/R CMD build --keep-empty-dirs --no-resave-data cellmigRation StartedAt: 2025-02-03 22:28:36 -0000 (Mon, 03 Feb 2025) EndedAt: 2025-02-03 22:31:57 -0000 (Mon, 03 Feb 2025) EllapsedTime: 201.1 seconds RetCode: 0 Status: OK PackageFile: cellmigRation_1.14.0.tar.gz PackageFileSize: 972.5 KiB