Package: cellmigRation Version: 1.14.0 Command: /home/biocbuild/R/R/bin/R CMD check --install=check:cellmigRation.install-out.txt --library=/home/biocbuild/R/R/site-library --no-vignettes --timings cellmigRation_1.14.0.tar.gz StartedAt: 2025-02-11 04:39:18 -0000 (Tue, 11 Feb 2025) EndedAt: 2025-02-11 04:41:38 -0000 (Tue, 11 Feb 2025) EllapsedTime: 140.1 seconds RetCode: 0 Status: OK CheckDir: cellmigRation.Rcheck Warnings: 0