Package: cellmigRation Version: 1.14.0 Command: /home/biocbuild/R/R/bin/R CMD INSTALL cellmigRation StartedAt: 2025-02-03 21:13:42 -0000 (Mon, 03 Feb 2025) EndedAt: 2025-02-03 21:14:02 -0000 (Mon, 03 Feb 2025) EllapsedTime: 20.5 seconds RetCode: 0 Status: OK