Package: censcyt Version: 1.14.0 Command: /Library/Frameworks/R.framework/Resources/bin/R CMD build --keep-empty-dirs --no-resave-data censcyt StartedAt: 2025-02-03 20:18:38 -0500 (Mon, 03 Feb 2025) EndedAt: 2025-02-03 20:20:17 -0500 (Mon, 03 Feb 2025) EllapsedTime: 99.0 seconds RetCode: 0 Status: OK PackageFile: censcyt_1.14.0.tar.gz PackageFileSize: 510.5 KiB