Package: censcyt Version: 1.14.0 Command: /Library/Frameworks/R.framework/Resources/bin/R CMD build --keep-empty-dirs --no-resave-data censcyt StartedAt: 2025-02-03 17:44:22 -0500 (Mon, 03 Feb 2025) EndedAt: 2025-02-03 17:47:22 -0500 (Mon, 03 Feb 2025) EllapsedTime: 179.6 seconds RetCode: 0 Status: OK PackageFile: censcyt_1.14.0.tar.gz PackageFileSize: 510.4 KiB