Package: censcyt Version: 1.14.0 Command: /Library/Frameworks/R.framework/Resources/bin/R CMD check --install=check:censcyt.install-out.txt --library=/Library/Frameworks/R.framework/Resources/library --no-vignettes --timings censcyt_1.14.0.tar.gz StartedAt: 2025-02-04 01:02:01 -0500 (Tue, 04 Feb 2025) EndedAt: 2025-02-04 01:12:08 -0500 (Tue, 04 Feb 2025) EllapsedTime: 606.6 seconds RetCode: 0 Status: OK CheckDir: censcyt.Rcheck Warnings: 0