Package: censcyt Version: 1.14.0 Command: /Library/Frameworks/R.framework/Resources/bin/R CMD INSTALL censcyt StartedAt: 2025-02-03 16:47:44 -0500 (Mon, 03 Feb 2025) EndedAt: 2025-02-03 16:48:50 -0500 (Mon, 03 Feb 2025) EllapsedTime: 65.4 seconds RetCode: 0 Status: OK