Package: censcyt Version: 1.14.0 Command: /home/biocbuild/bbs-3.20-bioc/R/bin/R CMD INSTALL censcyt StartedAt: 2025-02-10 16:02:14 -0500 (Mon, 10 Feb 2025) EndedAt: 2025-02-10 16:02:42 -0500 (Mon, 10 Feb 2025) EllapsedTime: 28.7 seconds RetCode: 0 Status: OK