Package: censcyt Version: 1.14.0 Command: chmod a+r censcyt -R && F:\biocbuild\bbs-3.20-bioc\R\bin\R.exe CMD build --keep-empty-dirs --no-resave-data censcyt StartedAt: 2025-02-03 18:01:56 -0500 (Mon, 03 Feb 2025) EndedAt: 2025-02-03 18:03:46 -0500 (Mon, 03 Feb 2025) EllapsedTime: 110.4 seconds RetCode: 0 Status: OK PackageFile: censcyt_1.14.0.tar.gz PackageFileSize: 352.7 KiB