Package: censcyt Version: 1.14.0 Command: /home/biocbuild/R/R/bin/R CMD build --keep-empty-dirs --no-resave-data censcyt StartedAt: 2025-02-03 22:29:32 -0000 (Mon, 03 Feb 2025) EndedAt: 2025-02-03 22:31:17 -0000 (Mon, 03 Feb 2025) EllapsedTime: 105.0 seconds RetCode: 0 Status: OK PackageFile: censcyt_1.14.0.tar.gz PackageFileSize: 400.8 KiB