Package: cfDNAPro Version: 1.12.0 Command: /Library/Frameworks/R.framework/Resources/bin/R CMD build --keep-empty-dirs --no-resave-data cfDNAPro StartedAt: 2025-02-03 17:45:26 -0500 (Mon, 03 Feb 2025) EndedAt: 2025-02-03 17:47:23 -0500 (Mon, 03 Feb 2025) EllapsedTime: 117.6 seconds RetCode: 0 Status: OK PackageFile: cfDNAPro_1.12.0.tar.gz PackageFileSize: 1.434 MiB