Package: cfDNAPro Version: 1.12.0 Command: /Library/Frameworks/R.framework/Resources/bin/R CMD INSTALL cfDNAPro StartedAt: 2025-02-03 16:14:38 -0500 (Mon, 03 Feb 2025) EndedAt: 2025-02-03 16:15:48 -0500 (Mon, 03 Feb 2025) EllapsedTime: 69.4 seconds RetCode: 0 Status: OK