Package: cfDNAPro Version: 1.12.0 Command: /home/biocbuild/bbs-3.20-bioc/R/bin/R CMD build --keep-empty-dirs --no-resave-data --md5 cfDNAPro StartedAt: 2025-01-30 16:37:57 -0500 (Thu, 30 Jan 2025) EndedAt: 2025-01-30 16:38:54 -0500 (Thu, 30 Jan 2025) EllapsedTime: 57.1 seconds RetCode: 0 Status: OK PackageFile: cfDNAPro_1.12.0.tar.gz PackageFileSize: 1.396 MiB