Package: cfDNAPro Version: 1.12.0 Command: rm -rf cfDNAPro.buildbin-libdir && mkdir cfDNAPro.buildbin-libdir && F:\biocbuild\bbs-3.20-bioc\R\bin\R.exe CMD INSTALL --build --library=cfDNAPro.buildbin-libdir cfDNAPro_1.12.0.tar.gz StartedAt: 2025-01-31 08:20:25 -0500 (Fri, 31 Jan 2025) EndedAt: 2025-01-31 08:21:30 -0500 (Fri, 31 Jan 2025) EllapsedTime: 64.9 seconds RetCode: 0 Status: OK PackageFile: cfDNAPro_1.12.0.zip PackageFileSize: 803.6 KiB