Package: cghMCR Version: 1.64.0 Command: /Library/Frameworks/R.framework/Resources/bin/R CMD build --keep-empty-dirs --no-resave-data cghMCR StartedAt: 2025-02-10 20:34:54 -0500 (Mon, 10 Feb 2025) EndedAt: 2025-02-10 20:36:32 -0500 (Mon, 10 Feb 2025) EllapsedTime: 98.3 seconds RetCode: 0 Status: OK PackageFile: cghMCR_1.64.0.tar.gz PackageFileSize: 36.1 MiB