Package: cghMCR Version: 1.64.0 Command: /home/biocbuild/bbs-3.20-bioc/R/bin/R CMD build --keep-empty-dirs --no-resave-data --md5 cghMCR StartedAt: 2025-02-03 16:47:35 -0500 (Mon, 03 Feb 2025) EndedAt: 2025-02-03 16:48:39 -0500 (Mon, 03 Feb 2025) EllapsedTime: 64.1 seconds RetCode: 0 Status: OK PackageFile: cghMCR_1.64.0.tar.gz PackageFileSize: 36.1 MiB