Package: cghMCR Version: 1.64.0 Command: /home/biocbuild/bbs-3.20-bioc/R/bin/R CMD INSTALL cghMCR StartedAt: 2025-02-10 15:52:48 -0500 (Mon, 10 Feb 2025) EndedAt: 2025-02-10 15:53:07 -0500 (Mon, 10 Feb 2025) EllapsedTime: 19.3 seconds RetCode: 0 Status: OK