Package: cghMCR Version: 1.64.0 Command: F:\biocbuild\bbs-3.20-bioc\R\bin\R.exe CMD check --no-multiarch --install=check:cghMCR.install-out.txt --library=F:\biocbuild\bbs-3.20-bioc\R\library --no-vignettes --timings cghMCR_1.64.0.tar.gz StartedAt: 2025-02-04 00:10:29 -0500 (Tue, 04 Feb 2025) EndedAt: 2025-02-04 00:13:05 -0500 (Tue, 04 Feb 2025) EllapsedTime: 155.4 seconds RetCode: 0 Status: WARNINGS CheckDir: cghMCR.Rcheck Warnings: 1