Package: chihaya Version: 1.6.0 Command: /Library/Frameworks/R.framework/Resources/bin/R CMD build --keep-empty-dirs --no-resave-data chihaya StartedAt: 2025-02-10 20:37:26 -0500 (Mon, 10 Feb 2025) EndedAt: 2025-02-10 20:38:15 -0500 (Mon, 10 Feb 2025) EllapsedTime: 48.8 seconds RetCode: 0 Status: OK PackageFile: chihaya_1.6.0.tar.gz PackageFileSize: 258.1 KiB