Package: chihaya Version: 1.6.0 Command: /Library/Frameworks/R.framework/Resources/bin/R CMD INSTALL chihaya StartedAt: 2025-02-10 15:16:49 -0500 (Mon, 10 Feb 2025) EndedAt: 2025-02-10 15:17:23 -0500 (Mon, 10 Feb 2025) EllapsedTime: 34.5 seconds RetCode: 0 Status: OK