Package: chihaya Version: 1.6.0 Command: /Library/Frameworks/R.framework/Resources/bin/R CMD check --install=check:chihaya.install-out.txt --library=/Library/Frameworks/R.framework/Resources/library --no-vignettes --timings chihaya_1.6.0.tar.gz StartedAt: 2025-02-04 01:06:59 -0500 (Tue, 04 Feb 2025) EndedAt: 2025-02-04 01:12:21 -0500 (Tue, 04 Feb 2025) EllapsedTime: 321.9 seconds RetCode: 0 Status: WARNINGS CheckDir: chihaya.Rcheck Warnings: 1