Package: chihaya Version: 1.6.0 Command: /home/biocbuild/R/R/bin/R CMD build --keep-empty-dirs --no-resave-data chihaya StartedAt: 2025-02-03 22:32:58 -0000 (Mon, 03 Feb 2025) EndedAt: 2025-02-03 22:33:54 -0000 (Mon, 03 Feb 2025) EllapsedTime: 56.0 seconds RetCode: 0 Status: OK PackageFile: chihaya_1.6.0.tar.gz PackageFileSize: 284.4 KiB