Package: chimeraviz Version: 1.32.0 Command: rm -rf chimeraviz.buildbin-libdir && mkdir chimeraviz.buildbin-libdir && /Users/biocbuild/BBS/utils/build-universal.sh chimeraviz_1.32.0.tar.gz /Library/Frameworks/R.framework/Resources/bin/R chimeraviz.buildbin-libdir StartedAt: 2025-02-05 15:11:04 -0500 (Wed, 05 Feb 2025) EndedAt: 2025-02-05 15:12:16 -0500 (Wed, 05 Feb 2025) EllapsedTime: 71.3 seconds RetCode: 0 Status: OK PackageFile: chimeraviz_1.32.0.tgz PackageFileSize: 4.711 MiB