Package: chimeraviz Version: 1.32.0 Command: /Library/Frameworks/R.framework/Resources/bin/R CMD build --keep-empty-dirs --no-resave-data chimeraviz StartedAt: 2025-02-10 20:37:34 -0500 (Mon, 10 Feb 2025) EndedAt: 2025-02-10 20:41:30 -0500 (Mon, 10 Feb 2025) EllapsedTime: 236.4 seconds RetCode: 0 Status: OK PackageFile: chimeraviz_1.32.0.tar.gz PackageFileSize: 4.109 MiB