Package: chimeraviz Version: 1.32.0 Command: /Library/Frameworks/R.framework/Resources/bin/R CMD check --install=check:chimeraviz.install-out.txt --library=/Library/Frameworks/R.framework/Resources/library --no-vignettes --timings chimeraviz_1.32.0.tar.gz StartedAt: 2025-02-04 14:28:51 -0500 (Tue, 04 Feb 2025) EndedAt: 2025-02-04 14:41:02 -0500 (Tue, 04 Feb 2025) EllapsedTime: 731.2 seconds RetCode: 0 Status: OK CheckDir: chimeraviz.Rcheck Warnings: 0