Package: chimeraviz Version: 1.32.0 Command: /Library/Frameworks/R.framework/Resources/bin/R CMD build --keep-empty-dirs --no-resave-data chimeraviz StartedAt: 2025-02-03 17:47:51 -0500 (Mon, 03 Feb 2025) EndedAt: 2025-02-03 17:55:25 -0500 (Mon, 03 Feb 2025) EllapsedTime: 454.0 seconds RetCode: 0 Status: OK PackageFile: chimeraviz_1.32.0.tar.gz PackageFileSize: 4.108 MiB