Package: chimeraviz Version: 1.32.0 Command: rm -rf chimeraviz.buildbin-libdir && mkdir chimeraviz.buildbin-libdir && F:\biocbuild\bbs-3.20-bioc\R\bin\R.exe CMD INSTALL --build --library=chimeraviz.buildbin-libdir chimeraviz_1.32.0.tar.gz StartedAt: 2025-02-04 08:11:03 -0500 (Tue, 04 Feb 2025) EndedAt: 2025-02-04 08:12:25 -0500 (Tue, 04 Feb 2025) EllapsedTime: 82.2 seconds RetCode: 0 Status: OK PackageFile: chimeraviz_1.32.0.zip PackageFileSize: 3.339 MiB