Package: chimeraviz Version: 1.32.0 Command: F:\biocbuild\bbs-3.20-bioc\R\bin\R.exe CMD check --no-multiarch --install=check:chimeraviz.install-out.txt --library=F:\biocbuild\bbs-3.20-bioc\R\library --no-vignettes --timings chimeraviz_1.32.0.tar.gz StartedAt: 2025-02-04 00:12:16 -0500 (Tue, 04 Feb 2025) EndedAt: 2025-02-04 00:25:14 -0500 (Tue, 04 Feb 2025) EllapsedTime: 778.6 seconds RetCode: 0 Status: OK CheckDir: chimeraviz.Rcheck Warnings: 0