Package: chimeraviz Version: 1.32.0 Command: /home/biocbuild/R/R/bin/R CMD INSTALL chimeraviz StartedAt: 2025-02-03 20:58:35 -0000 (Mon, 03 Feb 2025) EndedAt: 2025-02-03 20:59:44 -0000 (Mon, 03 Feb 2025) EllapsedTime: 69.1 seconds RetCode: 0 Status: OK