Package: chipenrich Version: 2.30.0 Command: rm -rf chipenrich.buildbin-libdir && mkdir chipenrich.buildbin-libdir && /Users/biocbuild/BBS/utils/build-universal.sh chipenrich_2.30.0.tar.gz /Library/Frameworks/R.framework/Resources/bin/R chipenrich.buildbin-libdir StartedAt: 2025-02-05 15:11:22 -0500 (Wed, 05 Feb 2025) EndedAt: 2025-02-05 15:12:16 -0500 (Wed, 05 Feb 2025) EllapsedTime: 54.2 seconds RetCode: 0 Status: OK PackageFile: chipenrich_2.30.0.tgz PackageFileSize: 880.4 KiB