Package: chipenrich Version: 2.30.0 Command: /Library/Frameworks/R.framework/Resources/bin/R CMD build --keep-empty-dirs --no-resave-data chipenrich StartedAt: 2025-02-03 20:27:55 -0500 (Mon, 03 Feb 2025) EndedAt: 2025-02-03 20:29:50 -0500 (Mon, 03 Feb 2025) EllapsedTime: 115.2 seconds RetCode: 0 Status: OK PackageFile: chipenrich_2.30.0.tar.gz PackageFileSize: 653.9 KiB