Package: chipenrich Version: 2.30.0 Command: /Library/Frameworks/R.framework/Resources/bin/R CMD INSTALL chipenrich StartedAt: 2025-02-03 17:29:59 -0500 (Mon, 03 Feb 2025) EndedAt: 2025-02-03 17:30:49 -0500 (Mon, 03 Feb 2025) EllapsedTime: 49.7 seconds RetCode: 0 Status: OK