Package: chipenrich Version: 2.30.0 Command: rm -rf chipenrich.buildbin-libdir && mkdir chipenrich.buildbin-libdir && /Users/biocbuild/BBS/utils/build-universal.sh chipenrich_2.30.0.tar.gz /Library/Frameworks/R.framework/Resources/bin/R chipenrich.buildbin-libdir StartedAt: 2025-02-04 12:38:28 -0500 (Tue, 04 Feb 2025) EndedAt: 2025-02-04 12:40:01 -0500 (Tue, 04 Feb 2025) EllapsedTime: 92.9 seconds RetCode: 0 Status: OK PackageFile: chipenrich_2.30.0.tgz PackageFileSize: 880.1 KiB