Package: chipenrich Version: 2.30.0 Command: /Library/Frameworks/R.framework/Resources/bin/R CMD check --install=check:chipenrich.install-out.txt --library=/Library/Frameworks/R.framework/Resources/library --no-vignettes --timings chipenrich_2.30.0.tar.gz StartedAt: 2025-02-04 01:08:52 -0500 (Tue, 04 Feb 2025) EndedAt: 2025-02-04 01:25:50 -0500 (Tue, 04 Feb 2025) EllapsedTime: 1018.5 seconds RetCode: 1 Status: ERROR CheckDir: chipenrich.Rcheck Warnings: NA