Package: chipenrich Version: 2.30.0 Command: /Library/Frameworks/R.framework/Resources/bin/R CMD INSTALL chipenrich StartedAt: 2025-02-03 16:27:29 -0500 (Mon, 03 Feb 2025) EndedAt: 2025-02-03 16:28:56 -0500 (Mon, 03 Feb 2025) EllapsedTime: 86.8 seconds RetCode: 0 Status: OK