Package: chipenrich Version: 2.30.0 Command: /home/biocbuild/R/R/bin/R CMD build --keep-empty-dirs --no-resave-data chipenrich StartedAt: 2025-01-30 22:32:52 -0000 (Thu, 30 Jan 2025) EndedAt: 2025-01-30 22:34:47 -0000 (Thu, 30 Jan 2025) EllapsedTime: 115.0 seconds RetCode: 0 Status: OK PackageFile: chipenrich_2.30.0.tar.gz PackageFileSize: 534.6 KiB