Package: chipenrich Version: 2.30.0 Command: /home/biocbuild/R/R/bin/R CMD INSTALL chipenrich StartedAt: 2025-01-30 20:55:40 -0000 (Thu, 30 Jan 2025) EndedAt: 2025-01-30 20:56:32 -0000 (Thu, 30 Jan 2025) EllapsedTime: 52.2 seconds RetCode: 0 Status: OK