Package: chipseq Version: 1.56.0 Command: /Library/Frameworks/R.framework/Resources/bin/R CMD build --keep-empty-dirs --no-resave-data chipseq StartedAt: 2025-02-03 20:31:13 -0500 (Mon, 03 Feb 2025) EndedAt: 2025-02-03 20:34:55 -0500 (Mon, 03 Feb 2025) EllapsedTime: 222.4 seconds RetCode: 0 Status: OK PackageFile: chipseq_1.56.0.tar.gz PackageFileSize: 2.434 MiB