Package: chipseq Version: 1.56.0 Command: /Library/Frameworks/R.framework/Resources/bin/R CMD check --install=check:chipseq.install-out.txt --library=/Library/Frameworks/R.framework/Resources/library --no-vignettes --timings chipseq_1.56.0.tar.gz StartedAt: 2025-01-31 14:14:00 -0500 (Fri, 31 Jan 2025) EndedAt: 2025-01-31 14:18:25 -0500 (Fri, 31 Jan 2025) EllapsedTime: 264.7 seconds RetCode: 0 Status: WARNINGS CheckDir: chipseq.Rcheck Warnings: 2