Package: chipseq Version: 1.56.0 Command: /Library/Frameworks/R.framework/Resources/bin/R CMD build --keep-empty-dirs --no-resave-data chipseq StartedAt: 2024-11-08 16:26:44 -0500 (Fri, 08 Nov 2024) EndedAt: 2024-11-08 16:27:44 -0500 (Fri, 08 Nov 2024) EllapsedTime: 59.6 seconds RetCode: 0 Status: OK PackageFile: chipseq_1.56.0.tar.gz PackageFileSize: 2.434 MiB