Package: chipseq Version: 1.56.0 Command: rm -rf chipseq.buildbin-libdir && mkdir chipseq.buildbin-libdir && /Users/biocbuild/BBS/utils/build-universal.sh chipseq_1.56.0.tar.gz /Library/Frameworks/R.framework/Resources/bin/R chipseq.buildbin-libdir StartedAt: 2025-02-04 12:38:56 -0500 (Tue, 04 Feb 2025) EndedAt: 2025-02-04 12:40:04 -0500 (Tue, 04 Feb 2025) EllapsedTime: 68.9 seconds RetCode: 0 Status: OK PackageFile: chipseq_1.56.0.tgz PackageFileSize: 2.483 MiB