Package: chipseq Version: 1.56.0 Command: /Library/Frameworks/R.framework/Resources/bin/R CMD build --keep-empty-dirs --no-resave-data chipseq StartedAt: 2025-02-03 17:49:37 -0500 (Mon, 03 Feb 2025) EndedAt: 2025-02-03 17:54:14 -0500 (Mon, 03 Feb 2025) EllapsedTime: 276.6 seconds RetCode: 0 Status: OK PackageFile: chipseq_1.56.0.tar.gz PackageFileSize: 2.42 MiB