Package: chipseq Version: 1.56.0 Command: rm -rf chipseq.buildbin-libdir && mkdir chipseq.buildbin-libdir && F:\biocbuild\bbs-3.20-bioc\R\bin\R.exe CMD INSTALL --build --library=chipseq.buildbin-libdir chipseq_1.56.0.tar.gz StartedAt: 2025-02-04 08:11:39 -0500 (Tue, 04 Feb 2025) EndedAt: 2025-02-04 08:12:16 -0500 (Tue, 04 Feb 2025) EllapsedTime: 37.1 seconds RetCode: 0 Status: OK PackageFile: chipseq_1.56.0.zip PackageFileSize: 2.115 MiB