Package: chipseq Version: 1.56.0 Command: chmod a+r chipseq -R && F:\biocbuild\bbs-3.20-bioc\R\bin\R.exe CMD build --keep-empty-dirs --no-resave-data chipseq StartedAt: 2025-02-03 18:06:30 -0500 (Mon, 03 Feb 2025) EndedAt: 2025-02-03 18:10:43 -0500 (Mon, 03 Feb 2025) EllapsedTime: 253.4 seconds RetCode: 0 Status: OK PackageFile: chipseq_1.56.0.tar.gz PackageFileSize: 2.031 MiB