Package: chipseq Version: 1.56.0 Command: /home/biocbuild/R/R/bin/R CMD build --keep-empty-dirs --no-resave-data chipseq StartedAt: 2025-02-03 22:34:18 -0000 (Mon, 03 Feb 2025) EndedAt: 2025-02-03 22:37:55 -0000 (Mon, 03 Feb 2025) EllapsedTime: 217.1 seconds RetCode: 0 Status: OK PackageFile: chipseq_1.56.0.tar.gz PackageFileSize: 2.143 MiB