Package: chipseq Version: 1.56.0 Command: /home/biocbuild/R/R/bin/R CMD INSTALL chipseq StartedAt: 2025-02-03 20:49:47 -0000 (Mon, 03 Feb 2025) EndedAt: 2025-02-03 20:50:23 -0000 (Mon, 03 Feb 2025) EllapsedTime: 35.9 seconds RetCode: 0 Status: OK