Package: chromPlot Version: 1.34.0 Command: /Library/Frameworks/R.framework/Resources/bin/R CMD check --install=check:chromPlot.install-out.txt --library=/Library/Frameworks/R.framework/Resources/library --no-vignettes --timings chromPlot_1.34.0.tar.gz StartedAt: 2025-02-04 14:45:34 -0500 (Tue, 04 Feb 2025) EndedAt: 2025-02-04 14:47:47 -0500 (Tue, 04 Feb 2025) EllapsedTime: 133.0 seconds RetCode: 0 Status: OK CheckDir: chromPlot.Rcheck Warnings: 0