Package: chromPlot Version: 1.34.0 Command: /Library/Frameworks/R.framework/Resources/bin/R CMD build --keep-empty-dirs --no-resave-data chromPlot StartedAt: 2025-02-03 17:51:25 -0500 (Mon, 03 Feb 2025) EndedAt: 2025-02-03 17:53:01 -0500 (Mon, 03 Feb 2025) EllapsedTime: 95.7 seconds RetCode: 0 Status: OK PackageFile: chromPlot_1.34.0.tar.gz PackageFileSize: 1.52 MiB