Package: chromPlot Version: 1.34.0 Command: /Library/Frameworks/R.framework/Resources/bin/R CMD INSTALL chromPlot StartedAt: 2025-02-10 15:46:51 -0500 (Mon, 10 Feb 2025) EndedAt: 2025-02-10 15:47:28 -0500 (Mon, 10 Feb 2025) EllapsedTime: 36.6 seconds RetCode: 0 Status: OK